BEGIN:VCALENDAR
VERSION:2.0
PRODID:-//Hyvink&auml;&auml;n Koiraurheilijat ry - ECPv6.15.20//NONSGML v1.0//EN
CALSCALE:GREGORIAN
METHOD:PUBLISH
X-WR-CALNAME:Hyvink&auml;&auml;n Koiraurheilijat ry
X-ORIGINAL-URL:https://www.hyku.fi
X-WR-CALDESC:Tapahtumat Hyvink&auml;&auml;n Koiraurheilijat ry
REFRESH-INTERVAL;VALUE=DURATION:PT1H
X-Robots-Tag:noindex
X-PUBLISHED-TTL:PT1H
BEGIN:VTIMEZONE
TZID:Europe/Helsinki
BEGIN:DAYLIGHT
TZOFFSETFROM:+0200
TZOFFSETTO:+0300
TZNAME:EEST
DTSTART:20230326T010000
END:DAYLIGHT
BEGIN:STANDARD
TZOFFSETFROM:+0300
TZOFFSETTO:+0200
TZNAME:EET
DTSTART:20231029T010000
END:STANDARD
BEGIN:DAYLIGHT
TZOFFSETFROM:+0200
TZOFFSETTO:+0300
TZNAME:EEST
DTSTART:20240331T010000
END:DAYLIGHT
BEGIN:STANDARD
TZOFFSETFROM:+0300
TZOFFSETTO:+0200
TZNAME:EET
DTSTART:20241027T010000
END:STANDARD
BEGIN:DAYLIGHT
TZOFFSETFROM:+0200
TZOFFSETTO:+0300
TZNAME:EEST
DTSTART:20250330T010000
END:DAYLIGHT
BEGIN:STANDARD
TZOFFSETFROM:+0300
TZOFFSETTO:+0200
TZNAME:EET
DTSTART:20251026T010000
END:STANDARD
END:VTIMEZONE
BEGIN:VEVENT
DTSTART;VALUE=DATE:20240921
DTEND;VALUE=DATE:20240923
DTSTAMP:20260425T055413
CREATED:20240107T223040Z
LAST-MODIFIED:20240918T203105Z
UID:7834-1726876800-1727049599@www.hyku.fi
SUMMARY:Viralliset agilitykilpailut
DESCRIPTION:Kisakirje\, lähtölistat ja aikataulu löytyvät tästä linkistä \nTervetuloa Hyvinkään Koiraurheilijoiden järjestämiin virallisiin agilitykilpailuihin syyskisojen merkeissä la-su 21.9-22.9.2024. \nLauantaina ykkös- ja kakkosluokan koirakoille on tarjolla yksi agirata ja kaksi hyppyrataa. Sunnuntaina kolmosluokan koirakoille puolestaan yksi hyppyrata ja kaksi agirataa.\nLauantaina kisapäivä aloitetaan 2-luokkien radoilla. Alustava järjestys lauantaille on 2ABC-1CBA\, jos luokkia ei jouduta jakamaan. Koko viikonloppu mennään säkäluokat pienistä isoihin ja sunnuntaina aoitetaan pienten säkäluokkien F-radalla. Lopullinen järjestys määräytyy kisaajmäärien mukaan. \nKisojen yhteydessä ratkaistaan myös snautsereiden rotumestaruus. \nTuomareina kisoissa toimivat Marko Kivihalme ja Johanna Nyberg. Tuomarijako tarkentuu myöhemmin. \nKilpailut järjestetään hallissa\, jossa juomakelpoinen vesi. Kilpailualustana toimii JutaGrassin tekonurmi joustolla. Käytössämme nyt myös Galicanin uudet soft-kontaktit. \nIlmoittautuminen Sagin sähköisen järjestelmä kautta maanantaihin 16.9.2024 mennessä! 12€ / startti. Emme ota vastaan liikunta- tms. seteleitä.\nHyKUn lisenssillä 10€ / startti. \nHUOM!! Mittaukseen tulevat!\nKoiran mittaukseen tulee ilmoittautua ennakkoon osoitteessa\nhttps://forms.gle/o5GK1A4Kqz992J5NA \nOhjeita mittaukseen tulevalle: https://www.agilityliitto.fi/kilpailut/mittaustilaisuudet/ \nIlmoittautuminen mittaukseen päättyy myös 16.9.2024. Mittauksen aikataulu ilmoitetaan kisakirjeessä.
URL:https://www.hyku.fi/event/viralliset-agilitykilpailut-41/
LOCATION:Hyvinkään Koiraurheilijat ry:n halli\, Holintie 10\, Hyvinkää\, 05810\, Suomi
CATEGORIES:agility
END:VEVENT
END:VCALENDAR