BEGIN:VCALENDAR
VERSION:2.0
PRODID:-//Hyvink&auml;&auml;n Koiraurheilijat ry - ECPv6.15.20//NONSGML v1.0//EN
CALSCALE:GREGORIAN
METHOD:PUBLISH
X-ORIGINAL-URL:https://www.hyku.fi
X-WR-CALDESC:Tapahtumat Hyvink&auml;&auml;n Koiraurheilijat ry
REFRESH-INTERVAL;VALUE=DURATION:PT1H
X-Robots-Tag:noindex
X-PUBLISHED-TTL:PT1H
BEGIN:VTIMEZONE
TZID:Europe/Helsinki
BEGIN:DAYLIGHT
TZOFFSETFROM:+0200
TZOFFSETTO:+0300
TZNAME:EEST
DTSTART:20220327T010000
END:DAYLIGHT
BEGIN:STANDARD
TZOFFSETFROM:+0300
TZOFFSETTO:+0200
TZNAME:EET
DTSTART:20221030T010000
END:STANDARD
BEGIN:DAYLIGHT
TZOFFSETFROM:+0200
TZOFFSETTO:+0300
TZNAME:EEST
DTSTART:20230326T010000
END:DAYLIGHT
BEGIN:STANDARD
TZOFFSETFROM:+0300
TZOFFSETTO:+0200
TZNAME:EET
DTSTART:20231029T010000
END:STANDARD
BEGIN:DAYLIGHT
TZOFFSETFROM:+0200
TZOFFSETTO:+0300
TZNAME:EEST
DTSTART:20240331T010000
END:DAYLIGHT
BEGIN:STANDARD
TZOFFSETFROM:+0300
TZOFFSETTO:+0200
TZNAME:EET
DTSTART:20241027T010000
END:STANDARD
END:VTIMEZONE
BEGIN:VEVENT
DTSTART;VALUE=DATE:20230819
DTEND;VALUE=DATE:20230821
DTSTAMP:20260426T041156
CREATED:20230105T214806Z
LAST-MODIFIED:20230818T203924Z
UID:7443-1692403200-1692575999@www.hyku.fi
SUMMARY:Viralliset agilitykilpailut
DESCRIPTION:Kilpailukirje\, lähtölistat ja aikataulut löytyvät tästä linkistä \n \nTervetuloa Hyvinkään Koiraurheilijoiden järjestämiin virallisiin agilitykilpailuihin la-su 19-20.8.2023.\nLauantaina kisaavat ykkös- ja kakkosluokan koirakot kahdella agilityradalla ja yhdellä hyppyradalla. Sunnuntaina kolmosluokan koirakoille on tarjolla sama setti. Kisajärjestys pienistä isoihin ja lauantaina 1 luokat aloittavat hyppyradalla.\nTuomareina kisoissa toimivat Mika Kangas ja Jenny Naumanen. Alustavan suunnitelman mukaan Mika aloittaa tuomaroinnit lauantaina ja Jenny sunnuntaina. Kisaajamäärien mukaan tuomari vaihtuu sopivassa kohtaa kisapäivää. Jako varmistuu ilmoittautumisen päätyttyä.\nKilpailut järjestetään hallissa\, jossa juomakelpoinen vesi. Kilpailualustana toimii JutaGrassin tekonurmi joustolla.\nIlmoittautuminen Sagin sähköisen järjestelmä kautta maanantaihin 14.8.2023 mennessä! 12€ / startti. Emme ota vastaan liikunta- tms. seteleitä.\nHyKUn lisenssillä 10€ / startti.\nHUOM!! Mittaukseen tulevat!\nKoiran mittaukseen tulee ilmoittautua ennakkoon osoitteessa\nhttps://forms.gle/o5GK1A4Kqz992J5NA\nOhjeita mittaukseen tulevalle: http://www.agilityliitto.fi/…/d_10_mittaukseen_liittyvat…\nIlmoittautuminen mittaukseen päättyy myös 14.8.2023. Mittauksen aikataulu ilmoitetaan kisakirjeessä.
URL:https://www.hyku.fi/event/viralliset-agilitykilpailut-33/
LOCATION:Hyvinkään Koiraurheilijat ry:n halli\, Holintie 10\, Hyvinkää\, 05810\, Suomi
CATEGORIES:agility
END:VEVENT
END:VCALENDAR