BEGIN:VCALENDAR
VERSION:2.0
PRODID:-//Hyvink&auml;&auml;n Koiraurheilijat ry - ECPv6.15.20//NONSGML v1.0//EN
CALSCALE:GREGORIAN
METHOD:PUBLISH
X-WR-CALNAME:Hyvink&auml;&auml;n Koiraurheilijat ry
X-ORIGINAL-URL:https://www.hyku.fi
X-WR-CALDESC:Tapahtumat Hyvink&auml;&auml;n Koiraurheilijat ry
REFRESH-INTERVAL;VALUE=DURATION:PT1H
X-Robots-Tag:noindex
X-PUBLISHED-TTL:PT1H
BEGIN:VTIMEZONE
TZID:Europe/Helsinki
BEGIN:DAYLIGHT
TZOFFSETFROM:+0200
TZOFFSETTO:+0300
TZNAME:EEST
DTSTART:20230326T010000
END:DAYLIGHT
BEGIN:STANDARD
TZOFFSETFROM:+0300
TZOFFSETTO:+0200
TZNAME:EET
DTSTART:20231029T010000
END:STANDARD
BEGIN:DAYLIGHT
TZOFFSETFROM:+0200
TZOFFSETTO:+0300
TZNAME:EEST
DTSTART:20240331T010000
END:DAYLIGHT
BEGIN:STANDARD
TZOFFSETFROM:+0300
TZOFFSETTO:+0200
TZNAME:EET
DTSTART:20241027T010000
END:STANDARD
BEGIN:DAYLIGHT
TZOFFSETFROM:+0200
TZOFFSETTO:+0300
TZNAME:EEST
DTSTART:20250330T010000
END:DAYLIGHT
BEGIN:STANDARD
TZOFFSETFROM:+0300
TZOFFSETTO:+0200
TZNAME:EET
DTSTART:20251026T010000
END:STANDARD
END:VTIMEZONE
BEGIN:VEVENT
DTSTART;VALUE=DATE:20240210
DTEND;VALUE=DATE:20240212
DTSTAMP:20260425T190827
CREATED:20240107T222201Z
LAST-MODIFIED:20240207T174331Z
UID:7822-1707523200-1707695999@www.hyku.fi
SUMMARY:Viralliset agilitykilpailut
DESCRIPTION:Kilpailukirje\, lähtölistat ja aikataulu löytyvät tästä linkistä \nTervetuloa Hyvinkään Koiraurheilijoiden järjestämiin virallisiin agilitykilpailuihin la-su 10.2-11.2.2024.\nLauantaina kisaavat ykkös- ja kakkosluokan koirakot kahdella hyppyradalla ja yhdellä agilityradalla. Sunnuntaina kolmosluokan koirakoille on tarjolla kaksi agilityrataa ja yksi hyppyrata.\nKisat käydään koko viikonlopun ajan järjestyksessä L-SL-M-S-XS. Luokkia jaetaan tarpeen mukaan ilmoittautumismäärien mukaan. Lauantaina aloitetaan 1-luokkien hyppyradoilla ja sunnuntaina aloitetaan agilityradoilla.\nTuomareina kisoissa toimivat Mikko Palsola ja Johanna Nyberg.\nLauantaina tuomaroinnit aloittaa Johanna ja sunnuntaina aloittaa Mikko. Ilmoittautumismäärien perusteella sama tuomari pysyy koko päivän tai tarvittaessa vaihtuu puolessavälissä päivää\, jos on paljon kisaajia.\nKilpailut järjestetään hallissa\, jossa juomakelpoinen vesi. Kilpailualustana toimii JutaGrassin tekonurmi joustolla.\nIlmoittautuminen Sagin sähköisen järjestelmä kautta maanantaihin 5.2.2024 mennessä! 12€ / startti. Emme ota vastaan liikunta- tms. seteleitä.\nHyKUn lisenssillä 10€ / startti.\nHUOM!! Mittaukseen tulevat!\nKoiran mittaukseen tulee ilmoittautua ennakkoon osoitteessa\nhttps://forms.gle/o5GK1A4Kqz992J5NA\nOhjeita mittaukseen tulevalle: http://www.agilityliitto.fi/…/d_10_mittaukseen_liittyvat…\nIlmoittautuminen mittaukseen päättyy myös 5.2.2024. Mittauksen aikataulu ilmoitetaan kisakirjeessä.
URL:https://www.hyku.fi/event/viralliset-agilitykilpailut-36/
LOCATION:Hyvinkään Koiraurheilijat ry:n halli\, Holintie 10\, Hyvinkää\, 05810\, Suomi
CATEGORIES:agility
END:VEVENT
END:VCALENDAR