BEGIN:VCALENDAR
VERSION:2.0
PRODID:-//Hyvink&auml;&auml;n Koiraurheilijat ry - ECPv6.15.20//NONSGML v1.0//EN
CALSCALE:GREGORIAN
METHOD:PUBLISH
X-ORIGINAL-URL:https://www.hyku.fi
X-WR-CALDESC:Tapahtumat Hyvink&auml;&auml;n Koiraurheilijat ry
REFRESH-INTERVAL;VALUE=DURATION:PT1H
X-Robots-Tag:noindex
X-PUBLISHED-TTL:PT1H
BEGIN:VTIMEZONE
TZID:Europe/Helsinki
BEGIN:DAYLIGHT
TZOFFSETFROM:+0200
TZOFFSETTO:+0300
TZNAME:EEST
DTSTART:20230326T010000
END:DAYLIGHT
BEGIN:STANDARD
TZOFFSETFROM:+0300
TZOFFSETTO:+0200
TZNAME:EET
DTSTART:20231029T010000
END:STANDARD
BEGIN:DAYLIGHT
TZOFFSETFROM:+0200
TZOFFSETTO:+0300
TZNAME:EEST
DTSTART:20240331T010000
END:DAYLIGHT
BEGIN:STANDARD
TZOFFSETFROM:+0300
TZOFFSETTO:+0200
TZNAME:EET
DTSTART:20241027T010000
END:STANDARD
BEGIN:DAYLIGHT
TZOFFSETFROM:+0200
TZOFFSETTO:+0300
TZNAME:EEST
DTSTART:20250330T010000
END:DAYLIGHT
BEGIN:STANDARD
TZOFFSETFROM:+0300
TZOFFSETTO:+0200
TZNAME:EET
DTSTART:20251026T010000
END:STANDARD
END:VTIMEZONE
BEGIN:VEVENT
DTSTART;VALUE=DATE:20240323
DTEND;VALUE=DATE:20240325
DTSTAMP:20260425T174518
CREATED:20240107T222415Z
LAST-MODIFIED:20240321T211835Z
UID:7825-1711152000-1711324799@www.hyku.fi
SUMMARY:Viralliset agilitykilpailut
DESCRIPTION:Lähtölistat\, aikataulut ja kilpailukirje löytyvät tästä linkistä.  \nTervetuloa Hyvinkään Koiraurheilijoiden järjestämiin virallisiin agilitykilpailuihin la-su 23.3-24.3.2024. Lauantaina kisaavat kolmosluokan koirakot kahdella hyppyradalla ja yhdellä agilityradalla. Sunnuntaina ykkösluokan koirakoille on tarjolla kaksi hyppyrataa ja yksi agilityrata ja kakkosluokan koirakoille kaksi agilityrataa ja yksi hyppyrata. Koko viikonloppu mennään järjestyksessä säkäluokat pienistä isoihin ja säkäluokkia voidaan jakaa ilmoittautumismäärien perusteella erikseen. Sunnuntaina 1-luokat aloittavat. \nTuomareina kisoissa toimivat Anne Viitanen ja Marko Kivihalme.\nMarko aloittaa tuomaroinnin lauantaina ja Anne jatkaa sopivassa kohdassa\, sunnuntaina Anne aloittaa ja Marko jatkaa sopivasta kohtaa. \nKilpailut järjestetään hallissa\, jossa juomakelpoinen vesi. Kilpailualustana toimii JutaGrassin tekonurmi joustolla. \nIlmoittautuminen Sagin sähköisen järjestelmä kautta maanantaihin 18.3.2024 mennessä! 12€ / startti. Emme ota vastaan liikunta- tms. seteleitä.\nHyKUn lisenssillä 10€ / startti. \nHUOM!! Mittaukseen tulevat!\nKoiran mittaukseen tulee ilmoittautua ennakkoon osoitteessa\nhttps://forms.gle/o5GK1A4Kqz992J5NA \nOhjeita mittaukseen tulevalle: http://www.agilityliitto.fi/site/assets/files/7831/d_10_mittaukseen_liittyvat_ohjeet_voimassa_1_9_2020_alkaen-1.pdf \nIlmoittautuminen mittaukseen päättyy myös 18.3.2024. Mittauksen aikataulu ilmoitetaan kisakirjeessä.
URL:https://www.hyku.fi/event/viralliset-agilitykilpailut-37/
LOCATION:Hyvinkään Koiraurheilijat ry:n halli\, Holintie 10\, Hyvinkää\, 05810\, Suomi
CATEGORIES:agility
END:VEVENT
END:VCALENDAR