BEGIN:VCALENDAR
VERSION:2.0
PRODID:-//Hyvink&auml;&auml;n Koiraurheilijat ry - ECPv6.15.20//NONSGML v1.0//EN
CALSCALE:GREGORIAN
METHOD:PUBLISH
X-ORIGINAL-URL:https://www.hyku.fi
X-WR-CALDESC:Tapahtumat Hyvink&auml;&auml;n Koiraurheilijat ry
REFRESH-INTERVAL;VALUE=DURATION:PT1H
X-Robots-Tag:noindex
X-PUBLISHED-TTL:PT1H
BEGIN:VTIMEZONE
TZID:Europe/Helsinki
BEGIN:DAYLIGHT
TZOFFSETFROM:+0200
TZOFFSETTO:+0300
TZNAME:EEST
DTSTART:20230326T010000
END:DAYLIGHT
BEGIN:STANDARD
TZOFFSETFROM:+0300
TZOFFSETTO:+0200
TZNAME:EET
DTSTART:20231029T010000
END:STANDARD
BEGIN:DAYLIGHT
TZOFFSETFROM:+0200
TZOFFSETTO:+0300
TZNAME:EEST
DTSTART:20240331T010000
END:DAYLIGHT
BEGIN:STANDARD
TZOFFSETFROM:+0300
TZOFFSETTO:+0200
TZNAME:EET
DTSTART:20241027T010000
END:STANDARD
BEGIN:DAYLIGHT
TZOFFSETFROM:+0200
TZOFFSETTO:+0300
TZNAME:EEST
DTSTART:20250330T010000
END:DAYLIGHT
BEGIN:STANDARD
TZOFFSETFROM:+0300
TZOFFSETTO:+0200
TZNAME:EET
DTSTART:20251026T010000
END:STANDARD
END:VTIMEZONE
BEGIN:VEVENT
DTSTART;VALUE=DATE:20241019
DTEND;VALUE=DATE:20241021
DTSTAMP:20260425T055816
CREATED:20240107T223157Z
LAST-MODIFIED:20241016T094828Z
UID:7836-1729296000-1729468799@www.hyku.fi
SUMMARY:Viralliset agilitykilpailut
DESCRIPTION:KISAKIRJE\, LÄHTÖLISTAT\, AIKATAULU löytyvät tästä linkistä.\n\nTervetuloa Hyvinkään Koiraurheilijoiden järjestämiin virallisiin agilitykilpailuihin lokakisojen merkeissä la-su 19.10-20.10.2024.\nLauantaina ykkös- ja kakkosluokan koirakoille on tarjolla kolme rataa\, ykkösluokille kaksi hyppy- ja yksi agirata ja kakkosluokille kaksi agirataa ja yksi hyppyrataa. Sunnuntaina kolmosluokan koirakoille puolestaan kolme agirataa.Koko viikonloppu kisaillaan säkäluokat isoista pieniin ja alustava kisajärjestys on lauantaina 1ABC – 2DCB ja sunnuntaina L\,SL – EFG ja M\,S\,XS – GFE. Kisaajamääristä riippuen säkäluokkajakoja voidaan joutua muuttamaan.\nTuomareina kisoissa toimivat Jenny Naumanen ja Arto Laitinen. Alustavan suunnitelman mukaan Jenny aloittaa tuomaroinnit molempina päivinä ja Arto jatkaa sopivasta kohtaa. Tuomarimuutokset mahdollisia\, jos koiramäärä sitä edellyttää.\nKilpailut järjestetään hallissa\, jossa juomakelpoinen vesi. Kilpailualustana toimii JutaGrassin tekonurmi joustolla. Käytössämme nyt myös Galicanin uudet soft-kontaktit.\nIlmoittautuminen Sagin sähköisen järjestelmä kautta maanantaihin 14.10.2024 mennessä! 12€ / startti. Emme ota vastaan liikunta- tms. seteleitä.HyKUn lisenssillä 10€ / startti.\nHUOM!! Mittaukseen tulevat!Koiran mittaukseen tulee ilmoittautua ennakkoon osoitteessahttps://forms.gle/o5GK1A4Kqz992J5NA\nOhjeita mittaukseen tulevalle: https://www.agilityliitto.fi/kilpailut/mittaustilaisuudet/\nIlmoittautuminen mittaukseen päättyy myös 14.10.2024. Mittauksen aikataulu ilmoitetaan kisakirjeessä
URL:https://www.hyku.fi/event/viralliset-agilitykilpailut-42/
LOCATION:Hyvinkään Koiraurheilijat ry:n halli\, Holintie 10\, Hyvinkää\, 05810\, Suomi
CATEGORIES:agility
END:VEVENT
END:VCALENDAR