BEGIN:VCALENDAR
VERSION:2.0
PRODID:-//Hyvink&auml;&auml;n Koiraurheilijat ry - ECPv6.15.20//NONSGML v1.0//EN
CALSCALE:GREGORIAN
METHOD:PUBLISH
X-WR-CALNAME:Hyvink&auml;&auml;n Koiraurheilijat ry
X-ORIGINAL-URL:https://www.hyku.fi
X-WR-CALDESC:Tapahtumat Hyvink&auml;&auml;n Koiraurheilijat ry
REFRESH-INTERVAL;VALUE=DURATION:PT1H
X-Robots-Tag:noindex
X-PUBLISHED-TTL:PT1H
BEGIN:VTIMEZONE
TZID:Europe/Helsinki
BEGIN:DAYLIGHT
TZOFFSETFROM:+0200
TZOFFSETTO:+0300
TZNAME:EEST
DTSTART:20240331T010000
END:DAYLIGHT
BEGIN:STANDARD
TZOFFSETFROM:+0300
TZOFFSETTO:+0200
TZNAME:EET
DTSTART:20241027T010000
END:STANDARD
BEGIN:DAYLIGHT
TZOFFSETFROM:+0200
TZOFFSETTO:+0300
TZNAME:EEST
DTSTART:20250330T010000
END:DAYLIGHT
BEGIN:STANDARD
TZOFFSETFROM:+0300
TZOFFSETTO:+0200
TZNAME:EET
DTSTART:20251026T010000
END:STANDARD
BEGIN:DAYLIGHT
TZOFFSETFROM:+0200
TZOFFSETTO:+0300
TZNAME:EEST
DTSTART:20260329T010000
END:DAYLIGHT
BEGIN:STANDARD
TZOFFSETFROM:+0300
TZOFFSETTO:+0200
TZNAME:EET
DTSTART:20261025T010000
END:STANDARD
END:VTIMEZONE
BEGIN:VEVENT
DTSTART;VALUE=DATE:20251011
DTEND;VALUE=DATE:20251012
DTSTAMP:20260424T091654
CREATED:20250827T195210Z
LAST-MODIFIED:20250827T195824Z
UID:8349-1760140800-1760227199@www.hyku.fi
SUMMARY:Viralliset rallytokokisat ja Whippettien rotumestaruus
DESCRIPTION:Rallykisat ja Whippettien rotumestaruus\n\n\n\n\nJärjestäjä: Hyvinkään Koiraurheilijat ry\n\n\n\n Rally-toko (ALO\,AVO\,VOI\,MES)\n\n\n\nPaikkakunta / paikka: Hyvinkää\, HyKUn halli os. Holintie 10\, Hyvinkää\nTuomari: Hannele Pirttimaa\nVastaava koetoimitsija: Päivi Korander\nLisätietoja kilpailijalle: Ilmoaika HyKU:n jäsenille ja whippettien rotumestaruuteen osallistuville 1.9.2025 alkaen. Ilmoaika ei-jäsenille 8.9.2025 alkaen. Hinta HyKU:n jäsenille 28€\, muille 32€. Luokkajärjestys mes-voi-avo-alo. Ilmoittautumiset ja tiedustelut vain sähköpostitse.\n\nIlmoittautuminen Virkussa.\n\nRajoitukset\n\nEtusija järjestävän yhdistyksen jäsenillä\nHyKU:n jäsenille oma ilmoittautumisaika\nKoiramäärää koskeva rajoitus\nMax 60 koirakkoa per kisa\, max 20 koirakkoa per luokka\nEtusija nimetyillä roduilla\nWhippeteille oma ilmoittautumisaika
URL:https://www.hyku.fi/event/viralliset-rallytokokisat/
LOCATION:Hyvinkään Koiraurheilijat ry:n halli\, Holintie 10\, Hyvinkää\, 05810\, Suomi
CATEGORIES:rally-toko
END:VEVENT
END:VCALENDAR