BEGIN:VCALENDAR
VERSION:2.0
PRODID:-//Hyvink&auml;&auml;n Koiraurheilijat ry - ECPv6.15.20//NONSGML v1.0//EN
CALSCALE:GREGORIAN
METHOD:PUBLISH
X-ORIGINAL-URL:https://www.hyku.fi
X-WR-CALDESC:Tapahtumat Hyvink&auml;&auml;n Koiraurheilijat ry
REFRESH-INTERVAL;VALUE=DURATION:PT1H
X-Robots-Tag:noindex
X-PUBLISHED-TTL:PT1H
BEGIN:VTIMEZONE
TZID:Europe/Helsinki
BEGIN:DAYLIGHT
TZOFFSETFROM:+0200
TZOFFSETTO:+0300
TZNAME:EEST
DTSTART:20240331T010000
END:DAYLIGHT
BEGIN:STANDARD
TZOFFSETFROM:+0300
TZOFFSETTO:+0200
TZNAME:EET
DTSTART:20241027T010000
END:STANDARD
BEGIN:DAYLIGHT
TZOFFSETFROM:+0200
TZOFFSETTO:+0300
TZNAME:EEST
DTSTART:20250330T010000
END:DAYLIGHT
BEGIN:STANDARD
TZOFFSETFROM:+0300
TZOFFSETTO:+0200
TZNAME:EET
DTSTART:20251026T010000
END:STANDARD
BEGIN:DAYLIGHT
TZOFFSETFROM:+0200
TZOFFSETTO:+0300
TZNAME:EEST
DTSTART:20260329T010000
END:DAYLIGHT
BEGIN:STANDARD
TZOFFSETFROM:+0300
TZOFFSETTO:+0200
TZNAME:EET
DTSTART:20261025T010000
END:STANDARD
END:VTIMEZONE
BEGIN:VEVENT
DTSTART;VALUE=DATE:20251025
DTEND;VALUE=DATE:20251026
DTSTAMP:20260424T090737
CREATED:20250827T194919Z
LAST-MODIFIED:20250915T121248Z
UID:8347-1761350400-1761436799@www.hyku.fi
SUMMARY:Virallinen tokokoe
DESCRIPTION:  \n Toko (ALO\,AVO\,VOI\,EVL)\n\n\n\n\n\n\n\nHyvinkää\, HyKUn halli os. Holintie 10\, Hyvinkää\n\n\n\n\n\nTuomarit \nEva-Maria Sipilä\n\n\n\n\n\nVastaava koetoimitsija \nPäivi Korander\n\n\n\n\n\nIlmoittautuminen jäsenille 2.9 alkaen hinta 30€\, ilmoaika ei-jäsenille 9.9 alkaen hinta 32e. Hallikoe. Luokkajärjestys evl-voi-avo-alo.\n\nIlmoittautuminen Virkussa.
URL:https://www.hyku.fi/event/virallinen-tokokoe-16/
LOCATION:Hyvinkään Koiraurheilijat ry:n halli\, Holintie 10\, Hyvinkää\, 05810\, Suomi
CATEGORIES:toko
END:VEVENT
END:VCALENDAR